BEGIN:VCALENDAR
VERSION:2.0
PRODID:-//Dave-DeWitt.com - ECPv6.0.7.1//NONSGML v1.0//EN
CALSCALE:GREGORIAN
METHOD:PUBLISH
X-WR-CALNAME:Dave-DeWitt.com
X-ORIGINAL-URL:https://www.dave-dewitt.com
X-WR-CALDESC:Events for Dave-DeWitt.com
REFRESH-INTERVAL;VALUE=DURATION:PT1H
X-Robots-Tag:noindex
X-PUBLISHED-TTL:PT1H
BEGIN:VTIMEZONE
TZID:America/Denver
BEGIN:DAYLIGHT
TZOFFSETFROM:-0700
TZOFFSETTO:-0600
TZNAME:MDT
DTSTART:20150308T090000
END:DAYLIGHT
BEGIN:STANDARD
TZOFFSETFROM:-0600
TZOFFSETTO:-0700
TZNAME:MST
DTSTART:20151101T080000
END:STANDARD
END:VTIMEZONE
BEGIN:VEVENT
DTSTART;TZID=America/Denver:20150917T160000
DTEND;TZID=America/Denver:20150917T203000
DTSTAMP:20260419T152638
CREATED:20150724T173955Z
LAST-MODIFIED:20150724T195922Z
UID:8053-1442505600-1442521800@www.dave-dewitt.com
SUMMARY:Dave DeWitt at the Cornell Plenty of Peppers Tour
DESCRIPTION:Come take a close-up look at this year’s extensive collection of peppers and other plantings on a special tour of the Pounder Vegetable Garden. Landscape designer Irene Lekstutis will be joined by special guests Dave DeWitt\, author and food historian\, and Eric Szymczak\, chef de cuisine at Taverna Banfi restaurant. Learn about some of the many pepper varieties that are available to grow in your garden\, and some tips for how to use them in your kitchen. We’ll even pick a few to taste…from sweet to hot! Go here for more information and to register.
URL:https://www.dave-dewitt.com/event/dave-dewitt-at-the-cornell-plenty-of-peppers-tour/
LOCATION:Plantations Botanical Garden\, Cornell University\, Ithaca\, NY\, United States
CATEGORIES:Lecture and Tasting
ATTACH;FMTTYPE=image/jpeg:https://www.dave-dewitt.com/wp-content/uploads/peppers-at-market.jpg
END:VEVENT
END:VCALENDAR